BEGIN:VCALENDAR
VERSION:2.0
PRODID:-//vadim.me//Defense//EN
BEGIN:VEVENT
DTSTART:20260507T133000Z
DTEND:20260507T153000Z
SUMMARY:Vadim's PhD Defense
LOCATION:Atlas 0.710\, TU/e\, Eindhoven
DESCRIPTION:Deep Program Induction for Personal Healthcare\n\n15:30 Doors\n16:00 Defense\n17:30 Reception at De Zwarte Doos\n\nhttps://vadim.me/defense
END:VEVENT
BEGIN:VEVENT
DTSTART:20260507T153000Z
DTEND:20260507T173000Z
SUMMARY:Reception — Vadim's PhD Defense
LOCATION:De Zwarte Doos\, Eindhoven
DESCRIPTION:Reception following Vadim's PhD defense\n\nhttps://vadim.me/defense
END:VEVENT
END:VCALENDAR
